BEGIN:VCALENDAR
VERSION:2.0
PRODID:-//MacArthur Blvd Baptist Church - ECPv5.1.5//NONSGML v1.0//EN
CALSCALE:GREGORIAN
METHOD:PUBLISH
X-WR-CALNAME:MacArthur Blvd Baptist Church
X-ORIGINAL-URL:https://www.macarthurblvd.org
X-WR-CALDESC:Events for MacArthur Blvd Baptist Church
BEGIN:VTIMEZONE
TZID:America/New_York
BEGIN:DAYLIGHT
TZOFFSETFROM:-0500
TZOFFSETTO:-0400
TZNAME:EDT
DTSTART:20230312T070000
END:DAYLIGHT
BEGIN:STANDARD
TZOFFSETFROM:-0400
TZOFFSETTO:-0500
TZNAME:EST
DTSTART:20231105T060000
END:STANDARD
END:VTIMEZONE
BEGIN:VEVENT
DTSTART;TZID=America/New_York:20230408T100000
DTEND;TZID=America/New_York:20230408T113000
DTSTAMP:20260421T100252
CREATED:20220309T211511Z
LAST-MODIFIED:20230320T142129Z
UID:18704-1680948000-1680953400@www.macarthurblvd.org
SUMMARY:Community Egg Hunt
DESCRIPTION:Spread the word and plan to join us on Saturday\, April 8th at 10:00 a.m. for a fun-filled morning! The egg hunts will begin at 10:00 a.m.\, and we will have children’s crafts and photo opportunities to enjoy as you engage with others at the event. \nLionheart Children’s Academy will also be offering classroom tours of their facilities for anyone interested in the academy. \n
URL:https://www.macarthurblvd.org/event/2023-egg-hunt/
LOCATION:MacArthur Blvd Baptist Church\, 8001 Mustang Dr\, Irving\, TX\, 75063\, United States
CATEGORIES:Children,Community
ATTACH;FMTTYPE=image/jpeg:https://www.macarthurblvd.org/wp-content/uploads/2022/03/Wordpress-3.jpg
GEO:32.9192861;-96.9555318
X-APPLE-STRUCTURED-LOCATION;VALUE=URI;X-ADDRESS=MacArthur Blvd Baptist Church 8001 Mustang Dr Irving TX 75063 United States;X-APPLE-RADIUS=500;X-TITLE=8001 Mustang Dr:geo:-96.9555318,32.9192861
END:VEVENT
END:VCALENDAR