BEGIN:VCALENDAR
VERSION:2.0
PRODID:-//MacArthur Blvd Baptist Church - ECPv5.1.5//NONSGML v1.0//EN
CALSCALE:GREGORIAN
METHOD:PUBLISH
X-WR-CALNAME:MacArthur Blvd Baptist Church
X-ORIGINAL-URL:https://www.macarthurblvd.org
X-WR-CALDESC:Events for MacArthur Blvd Baptist Church
BEGIN:VTIMEZONE
TZID:America/New_York
BEGIN:DAYLIGHT
TZOFFSETFROM:-0500
TZOFFSETTO:-0400
TZNAME:EDT
DTSTART:20160313T070000
END:DAYLIGHT
BEGIN:STANDARD
TZOFFSETFROM:-0400
TZOFFSETTO:-0500
TZNAME:EST
DTSTART:20161106T060000
END:STANDARD
END:VTIMEZONE
BEGIN:VEVENT
DTSTART;VALUE=DATE:20160611
DTEND;VALUE=DATE:20160618
DTSTAMP:20260421T164150
CREATED:20160316T202053Z
LAST-MODIFIED:20160524T211030Z
UID:2129-1465603200-1466207999@www.macarthurblvd.org
SUMMARY:Bahamas Mission Trip
DESCRIPTION:Nassau\, Bahamas\n$845 (hotel & food) + $667 (flight) = $1512.00 Total Cost \n***Passport is necessary***\nAll are invited (must be a Christ follower and demonstrate salvation) Scholarships are available. \n
URL:https://www.macarthurblvd.org/event/bahamas-mission-trip/
LOCATION:Unnamed Venue\, TX
CATEGORIES:Mission,Students
ATTACH;FMTTYPE=image/jpeg:https://www.macarthurblvd.org/wp-content/uploads/2016/03/StudentMissionTrip-header.jpg
GEO:31.9685988;-99.9018131
END:VEVENT
END:VCALENDAR