BEGIN:VCALENDAR
VERSION:2.0
PRODID:-//MacArthur Blvd Baptist Church - ECPv5.1.5//NONSGML v1.0//EN
CALSCALE:GREGORIAN
METHOD:PUBLISH
X-WR-CALNAME:MacArthur Blvd Baptist Church
X-ORIGINAL-URL:https://www.macarthurblvd.org
X-WR-CALDESC:Events for MacArthur Blvd Baptist Church
BEGIN:VTIMEZONE
TZID:America/New_York
BEGIN:DAYLIGHT
TZOFFSETFROM:-0500
TZOFFSETTO:-0400
TZNAME:EDT
DTSTART:20200308T070000
END:DAYLIGHT
BEGIN:STANDARD
TZOFFSETFROM:-0400
TZOFFSETTO:-0500
TZNAME:EST
DTSTART:20201101T060000
END:STANDARD
END:VTIMEZONE
BEGIN:VEVENT
DTSTART;TZID=America/New_York:20200110T180000
DTEND;TZID=America/New_York:20200110T210000
DTSTAMP:20260420T034731
CREATED:20200107T135207Z
LAST-MODIFIED:20200107T135423Z
UID:12775-1578679200-1578690000@www.macarthurblvd.org
SUMMARY:Caffeinated Theology for High School Students
DESCRIPTION:This is a time for our high school students to sip coffee (or hot chocolate\, or tea\, or water etc..)\, think deeply\, and talk about theology. \nThere will be a different question for discussion each time we meet. \nSnacks and drinks will be provided. Bring your own mug. \nBring your own dinner if you want to come between 5-6 p.m. \nWhere: The Chan’s Home \nTime:    Doors open at 5p.m.\nDiscussion is from 6-8p.m. \n
URL:https://www.macarthurblvd.org/event/caffeinated-theology-for-high-school-students/
LOCATION:The Chan’s Home\, TX\, United States
ATTACH;FMTTYPE=image/png:https://www.macarthurblvd.org/wp-content/uploads/2019/10/CaffTheology.png
END:VEVENT
END:VCALENDAR