BEGIN:VCALENDAR
VERSION:2.0
PRODID:-//MacArthur Blvd Baptist Church - ECPv5.1.5//NONSGML v1.0//EN
CALSCALE:GREGORIAN
METHOD:PUBLISH
X-WR-CALNAME:MacArthur Blvd Baptist Church
X-ORIGINAL-URL:https://www.macarthurblvd.org
X-WR-CALDESC:Events for MacArthur Blvd Baptist Church
BEGIN:VTIMEZONE
TZID:America/New_York
BEGIN:DAYLIGHT
TZOFFSETFROM:-0500
TZOFFSETTO:-0400
TZNAME:EDT
DTSTART:20190310T070000
END:DAYLIGHT
BEGIN:STANDARD
TZOFFSETFROM:-0400
TZOFFSETTO:-0500
TZNAME:EST
DTSTART:20191103T060000
END:STANDARD
END:VTIMEZONE
BEGIN:VEVENT
DTSTART;TZID=America/New_York:20191027T043000
DTEND;TZID=America/New_York:20191027T070000
DTSTAMP:20260420T034808
CREATED:20160316T044417Z
LAST-MODIFIED:20190918T193150Z
UID:2066-1572150600-1572159600@www.macarthurblvd.org
SUMMARY:Membership Class- Session 2
DESCRIPTION:Unsure about membership\, but would like more info?\nThis is Session 2 of our membership class. If you have registered for Session 1 and would like to register for Session 2\, please click the link below. \n  \n\nRegister for the class\n\n		Membership Class RegistrationFirst Name  *\nLast Name  *\nPlease list all other family members attending class \nEmail  *\nPhone \n\n					\n					  \n  \n
URL:https://www.macarthurblvd.org/event/membership-class/2019-10-27/
LOCATION:MacArthur Blvd Baptist Church\, 8001 Mustang Dr\, Irving\, TX\, 75063\, United States
CATEGORIES:Community,Meetings,Worship
GEO:32.9192861;-96.9555318
X-APPLE-STRUCTURED-LOCATION;VALUE=URI;X-ADDRESS=MacArthur Blvd Baptist Church 8001 Mustang Dr Irving TX 75063 United States;X-APPLE-RADIUS=500;X-TITLE=8001 Mustang Dr:geo:-96.9555318,32.9192861
END:VEVENT
END:VCALENDAR